BEGIN:VCALENDAR
VERSION:2.0
PRODID:-//London Southside Chamber of Commerce - ECPv6.14.1//NONSGML v1.0//EN
CALSCALE:GREGORIAN
METHOD:PUBLISH
X-WR-CALNAME:London Southside Chamber of Commerce
X-ORIGINAL-URL:https://www.londonscc.co.uk
X-WR-CALDESC:Events for London Southside Chamber of Commerce
REFRESH-INTERVAL;VALUE=DURATION:PT1H
X-Robots-Tag:noindex
X-PUBLISHED-TTL:PT1H
BEGIN:VTIMEZONE
TZID:Europe/Paris
BEGIN:DAYLIGHT
TZOFFSETFROM:+0100
TZOFFSETTO:+0200
TZNAME:CEST
DTSTART:20250330T010000
END:DAYLIGHT
BEGIN:STANDARD
TZOFFSETFROM:+0200
TZOFFSETTO:+0100
TZNAME:CET
DTSTART:20251026T010000
END:STANDARD
END:VTIMEZONE
BEGIN:VEVENT
DTSTART;TZID=Europe/Paris:20250912T180000
DTEND;TZID=Europe/Paris:20250912T210000
DTSTAMP:20260422T145531
CREATED:20251029T151240Z
LAST-MODIFIED:20251029T151240Z
UID:18567-1757700000-1757710800@www.londonscc.co.uk
SUMMARY:UK Finance & LAW Update - Birketts and Easter Horizon Wealth Management
DESCRIPTION:UK Finance & LAW Update – Birketts and Easter Horizon Wealth Management\, St James Place \n  \nInsightful presentation at an amazing venue on Employment/ Employee Law\, Budgets and how to manage your individual and company assets
URL:https://www.londonscc.co.uk/event/uk-finance-law-update-birketts-and-easter-horizon-wealth-management/
LOCATION:Cannon Street Rooftop
END:VEVENT
END:VCALENDAR